BEGIN:VCALENDAR
VERSION:2.0
PRODID:-//Target Sales - ECPv6.15.20//NONSGML v1.0//EN
CALSCALE:GREGORIAN
METHOD:PUBLISH
X-WR-CALNAME:Target Sales
X-ORIGINAL-URL:https://www.targetsales.com
X-WR-CALDESC:Events for Target Sales
REFRESH-INTERVAL;VALUE=DURATION:PT1H
X-Robots-Tag:noindex
X-PUBLISHED-TTL:PT1H
BEGIN:VTIMEZONE
TZID:UTC
BEGIN:STANDARD
TZOFFSETFROM:+0000
TZOFFSETTO:+0000
TZNAME:UTC
DTSTART:20200101T000000
END:STANDARD
END:VTIMEZONE
BEGIN:VEVENT
DTSTART;TZID=UTC:20210901T100000
DTEND;TZID=UTC:20210901T110000
DTSTAMP:20260424T092045
CREATED:20210826T135055Z
LAST-MODIFIED:20210826T135055Z
UID:2125-1630490400-1630494000@www.targetsales.com
SUMMARY:Distributor Training: Rectorseal and Navac in Jacksonville
DESCRIPTION:Teaching the ins and outs of our top products from Rectorseal and Navac.
URL:https://www.targetsales.com/event/distributor-training-rectorseal-and-navac-in-jacksonville/
END:VEVENT
BEGIN:VEVENT
DTSTART;TZID=UTC:20210915T080000
DTEND;TZID=UTC:20210915T090000
DTSTAMP:20260424T092045
CREATED:20210826T140524Z
LAST-MODIFIED:20210826T140524Z
UID:2127-1631692800-1631696400@www.targetsales.com
SUMMARY:Distributor Training in Melbourne
DESCRIPTION:Covering Air Knight\, Navac and Rectorseal products.
URL:https://www.targetsales.com/event/distributor-training-in-melbourne/
END:VEVENT
BEGIN:VEVENT
DTSTART;TZID=UTC:20210916T070000
DTEND;TZID=UTC:20210916T080000
DTSTAMP:20260424T092045
CREATED:20210826T141555Z
LAST-MODIFIED:20210826T141555Z
UID:2129-1631775600-1631779200@www.targetsales.com
SUMMARY:Contractor Training: Turbotorch Best Practices in Melbourne
DESCRIPTION:Per request a Turbotorch training to local contractor.
URL:https://www.targetsales.com/event/contractor-training-turbotorch-best-practices-in-melbourne/
END:VEVENT
BEGIN:VEVENT
DTSTART;TZID=UTC:20210916T090000
DTEND;TZID=UTC:20210916T100000
DTSTAMP:20260424T092045
CREATED:20210826T141856Z
LAST-MODIFIED:20210826T141856Z
UID:2131-1631782800-1631786400@www.targetsales.com
SUMMARY:Contractor Training: Indoor Air Quality in Seminole
DESCRIPTION:Indoor Air Quality meeting with a  focus on Air Knight capabilities
URL:https://www.targetsales.com/event/contractor-training-indoor-air-quality-in-seminole/
END:VEVENT
BEGIN:VEVENT
DTSTART;TZID=UTC:20210928T080000
DTEND;TZID=UTC:20210928T090000
DTSTAMP:20260424T092045
CREATED:20210914T080000Z
LAST-MODIFIED:20210910T145248Z
UID:2138-1632816000-1632819600@www.targetsales.com
SUMMARY:Navac Contractor Training at Hudson Distributor
DESCRIPTION:Demonstration and best practices with Navac vacuum pumps and hand tools.
URL:https://www.targetsales.com/event/contractor-navac-training-at-hudson-distributor/
END:VEVENT
END:VCALENDAR