BEGIN:VCALENDAR
VERSION:2.0
PRODID:-//Target Sales - ECPv6.15.20//NONSGML v1.0//EN
CALSCALE:GREGORIAN
METHOD:PUBLISH
X-ORIGINAL-URL:https://www.targetsales.com
X-WR-CALDESC:Events for Target Sales
REFRESH-INTERVAL;VALUE=DURATION:PT1H
X-Robots-Tag:noindex
X-PUBLISHED-TTL:PT1H
BEGIN:VTIMEZONE
TZID:UTC
BEGIN:STANDARD
TZOFFSETFROM:+0000
TZOFFSETTO:+0000
TZNAME:UTC
DTSTART:20200101T000000
END:STANDARD
END:VTIMEZONE
BEGIN:VEVENT
DTSTART;TZID=UTC:20210810T080000
DTEND;TZID=UTC:20210810T100000
DTSTAMP:20260424T073052
CREATED:20210722T204608Z
LAST-MODIFIED:20210722T204608Z
UID:2109-1628582400-1628589600@www.targetsales.com
SUMMARY:Personalized  Navac Training in Punta Gorda
DESCRIPTION:
URL:https://www.targetsales.com/event/personalized-navac-training-in-punta-gorda/
END:VEVENT
BEGIN:VEVENT
DTSTART;TZID=UTC:20210812T070000
DTEND;TZID=UTC:20210812T090000
DTSTAMP:20260424T073052
CREATED:20210727T210022Z
LAST-MODIFIED:20210727T210022Z
UID:2115-1628751600-1628758800@www.targetsales.com
SUMMARY:Contractor Surge Protection Training in Orlando
DESCRIPTION:Contractor training with a focus on Rectorseal’s surge protection products.
URL:https://www.targetsales.com/event/contractor-surge-protection-training-in-orlando/
END:VEVENT
BEGIN:VEVENT
DTSTART;TZID=UTC:20210817T080000
DTEND;TZID=UTC:20210817T090000
DTSTAMP:20260424T073052
CREATED:20210826T143345Z
LAST-MODIFIED:20210826T143345Z
UID:2133-1629187200-1629190800@www.targetsales.com
SUMMARY:Contractor Training: VRM in Jacksonville
DESCRIPTION:Features and application of Voltage Range Monitor RSH50VRM Kit from Rectorseal.
URL:https://www.targetsales.com/event/contractor-training-vrm-in-jacksonville/
END:VEVENT
BEGIN:VEVENT
DTSTART;TZID=UTC:20210820T090000
DTEND;TZID=UTC:20210820T100000
DTSTAMP:20260424T073052
CREATED:20210722T204741Z
LAST-MODIFIED:20210722T204741Z
UID:2111-1629450000-1629453600@www.targetsales.com
SUMMARY:Contractor Training on PWC Ductless Skills in Naples
DESCRIPTION:
URL:https://www.targetsales.com/event/contractor-training-on-pwc-ductless-skills-in-naples/
END:VEVENT
BEGIN:VEVENT
DTSTART;TZID=UTC:20210826T073000
DTEND;TZID=UTC:20210826T083000
DTSTAMP:20260424T073052
CREATED:20210826T132904Z
LAST-MODIFIED:20210826T132904Z
UID:2118-1629963000-1629966600@www.targetsales.com
SUMMARY:Contractor Training on TurboTorch in Miami
DESCRIPTION:Rescheduled contractor training in Miami.
URL:https://www.targetsales.com/event/contractor-training-on-turbotorch-in-miami/
END:VEVENT
BEGIN:VEVENT
DTSTART;TZID=UTC:20210827T090000
DTEND;TZID=UTC:20210827T100000
DTSTAMP:20260424T073052
CREATED:20210826T133147Z
LAST-MODIFIED:20210826T133147Z
UID:2121-1630054800-1630058400@www.targetsales.com
SUMMARY:Contractor Training: Charging Training in Englewood\, FL
DESCRIPTION:Charging Training using Navac products.
URL:https://www.targetsales.com/event/contractor-training-charging-training-in-englewood-fl/
END:VEVENT
BEGIN:VEVENT
DTSTART;TZID=UTC:20210830T073000
DTEND;TZID=UTC:20210830T083000
DTSTAMP:20260424T073052
CREATED:20210826T133512Z
LAST-MODIFIED:20210826T133512Z
UID:2123-1630308600-1630312200@www.targetsales.com
SUMMARY:Contractor Training: Aluminum Repair in Apopka
DESCRIPTION:Aluminum repair training using Navac products.
URL:https://www.targetsales.com/event/contractor-training-aluminum-repair-in-apopka/
END:VEVENT
END:VCALENDAR