BEGIN:VCALENDAR
VERSION:2.0
PRODID:-//Target Sales - ECPv6.15.20//NONSGML v1.0//EN
CALSCALE:GREGORIAN
METHOD:PUBLISH
X-ORIGINAL-URL:https://www.targetsales.com
X-WR-CALDESC:Events for Target Sales
REFRESH-INTERVAL;VALUE=DURATION:PT1H
X-Robots-Tag:noindex
X-PUBLISHED-TTL:PT1H
BEGIN:VTIMEZONE
TZID:UTC
BEGIN:STANDARD
TZOFFSETFROM:+0000
TZOFFSETTO:+0000
TZNAME:UTC
DTSTART:20200101T000000
END:STANDARD
END:VTIMEZONE
BEGIN:VEVENT
DTSTART;TZID=UTC:20210702T080000
DTEND;TZID=UTC:20210702T100000
DTSTAMP:20260424T054437
CREATED:20210702T185110Z
LAST-MODIFIED:20210702T185110Z
UID:2096-1625212800-1625220000@www.targetsales.com
SUMMARY:Brazing Best Practices - Naples
DESCRIPTION:Contractor Training in Naples
URL:https://www.targetsales.com/event/brazing-best-practices-naples/
END:VEVENT
BEGIN:VEVENT
DTSTART;TZID=UTC:20210706T080000
DTEND;TZID=UTC:20210706T100000
DTSTAMP:20260424T054437
CREATED:20210702T185936Z
LAST-MODIFIED:20210702T185936Z
UID:2099-1625558400-1625565600@www.targetsales.com
SUMMARY:Surge Protection Training - Plant City
DESCRIPTION:Contractor Training
URL:https://www.targetsales.com/event/surge-protection-training-plant-city/
END:VEVENT
BEGIN:VEVENT
DTSTART;TZID=UTC:20210707T080000
DTEND;TZID=UTC:20210707T090000
DTSTAMP:20260424T054437
CREATED:20210702T190347Z
LAST-MODIFIED:20210702T190347Z
UID:2101-1625644800-1625648400@www.targetsales.com
SUMMARY:IAQ Best Practices in Sales - Lakeland
DESCRIPTION:Contractor Training in Lakeland
URL:https://www.targetsales.com/event/iaq-best-practices-in-sales-lakeland/
END:VEVENT
BEGIN:VEVENT
DTSTART;TZID=UTC:20210707T080000
DTEND;TZID=UTC:20210707T110000
DTSTAMP:20260424T054437
CREATED:20210624T201951Z
LAST-MODIFIED:20210624T201951Z
UID:2081-1625644800-1625655600@www.targetsales.com
SUMMARY:Counter Day Carrier Orlando- Rectorseal
DESCRIPTION:Counter Day- Rectorseal: Pro Fit Quick Connects and Navac at Carrier Airport location in Orlando\, 7443 Emerald Dunes Dr
URL:https://www.targetsales.com/event/counter-day-carrier-orlando-rectorseal/
END:VEVENT
BEGIN:VEVENT
DTSTART;TZID=UTC:20210708T073000
DTEND;TZID=UTC:20210708T083000
DTSTAMP:20260424T054437
CREATED:20210624T202305Z
LAST-MODIFIED:20210624T202305Z
UID:2083-1625729400-1625733000@www.targetsales.com
SUMMARY:Contractor Training in Orlando
DESCRIPTION:
URL:https://www.targetsales.com/event/contractor-training-in-orlando/
END:VEVENT
BEGIN:VEVENT
DTSTART;TZID=UTC:20210714T080000
DTEND;TZID=UTC:20210714T090000
DTSTAMP:20260424T054437
CREATED:20210702T190827Z
LAST-MODIFIED:20210702T190827Z
UID:2103-1626249600-1626253200@www.targetsales.com
SUMMARY:Vacuum Recovery and Charge Class - Lakeland
DESCRIPTION:Contractor Training
URL:https://www.targetsales.com/event/vacuum-recovery-and-charge-class-lakeland/
END:VEVENT
BEGIN:VEVENT
DTSTART;TZID=UTC:20210715T080000
DTEND;TZID=UTC:20210715T090000
DTSTAMP:20260424T054437
CREATED:20210708T142838Z
LAST-MODIFIED:20210708T142838Z
UID:2105-1626336000-1626339600@www.targetsales.com
SUMMARY:Rectorseal Contractor Training - Boca Raton
DESCRIPTION:Brad Carson will present best practices about Profit Quick Connect push fittings.
URL:https://www.targetsales.com/event/rectorseal-contractor-training-boca-raton/
END:VEVENT
BEGIN:VEVENT
DTSTART;TZID=UTC:20210720T080000
DTEND;TZID=UTC:20210720T090000
DTSTAMP:20260424T054437
CREATED:20210624T202607Z
LAST-MODIFIED:20210624T202607Z
UID:2085-1626768000-1626771600@www.targetsales.com
SUMMARY:Contractor Training in Jacksonville- Rectorseal
DESCRIPTION:Maintenance/Service Communications Training
URL:https://www.targetsales.com/event/contractor-training-in-jacksonville-rectorseal/
END:VEVENT
BEGIN:VEVENT
DTSTART;TZID=UTC:20210728T073000
DTEND;TZID=UTC:20210728T083000
DTSTAMP:20260424T054437
CREATED:20210624T202858Z
LAST-MODIFIED:20210624T202858Z
UID:2087-1627457400-1627461000@www.targetsales.com
SUMMARY:Contractor Training in Apopka- Rectorseal
DESCRIPTION:Profit Quick Connect Training
URL:https://www.targetsales.com/event/contractor-training-in-apopka-rectorseal/
END:VEVENT
END:VCALENDAR