BEGIN:VCALENDAR
VERSION:2.0
PRODID:-//Target Sales - ECPv6.15.20//NONSGML v1.0//EN
CALSCALE:GREGORIAN
METHOD:PUBLISH
X-ORIGINAL-URL:https://www.targetsales.com
X-WR-CALDESC:Events for Target Sales
REFRESH-INTERVAL;VALUE=DURATION:PT1H
X-Robots-Tag:noindex
X-PUBLISHED-TTL:PT1H
BEGIN:VTIMEZONE
TZID:UTC
BEGIN:STANDARD
TZOFFSETFROM:+0000
TZOFFSETTO:+0000
TZNAME:UTC
DTSTART:20200101T000000
END:STANDARD
END:VTIMEZONE
BEGIN:VEVENT
DTSTART;TZID=UTC:20210928T080000
DTEND;TZID=UTC:20210928T090000
DTSTAMP:20260424T105227
CREATED:20210914T080000Z
LAST-MODIFIED:20210910T145248Z
UID:2138-1632816000-1632819600@www.targetsales.com
SUMMARY:Navac Contractor Training at Hudson Distributor
DESCRIPTION:Demonstration and best practices with Navac vacuum pumps and hand tools.
URL:https://www.targetsales.com/event/contractor-navac-training-at-hudson-distributor/
END:VEVENT
END:VCALENDAR