BEGIN:VCALENDAR
VERSION:2.0
PRODID:-//Target Sales - ECPv6.15.20//NONSGML v1.0//EN
CALSCALE:GREGORIAN
METHOD:PUBLISH
X-WR-CALNAME:Target Sales
X-ORIGINAL-URL:https://www.targetsales.com
X-WR-CALDESC:Events for Target Sales
REFRESH-INTERVAL;VALUE=DURATION:PT1H
X-Robots-Tag:noindex
X-PUBLISHED-TTL:PT1H
BEGIN:VTIMEZONE
TZID:UTC
BEGIN:STANDARD
TZOFFSETFROM:+0000
TZOFFSETTO:+0000
TZNAME:UTC
DTSTART:20200101T000000
END:STANDARD
END:VTIMEZONE
BEGIN:VEVENT
DTSTART;TZID=UTC:20210820T090000
DTEND;TZID=UTC:20210820T100000
DTSTAMP:20260424T091927
CREATED:20210722T204741Z
LAST-MODIFIED:20210722T204741Z
UID:2111-1629450000-1629453600@www.targetsales.com
SUMMARY:Contractor Training on PWC Ductless Skills in Naples
DESCRIPTION:
URL:https://www.targetsales.com/event/contractor-training-on-pwc-ductless-skills-in-naples/
END:VEVENT
END:VCALENDAR