BEGIN:VCALENDAR
VERSION:2.0
PRODID:-//Target Sales - ECPv6.15.20//NONSGML v1.0//EN
CALSCALE:GREGORIAN
METHOD:PUBLISH
X-ORIGINAL-URL:https://www.targetsales.com
X-WR-CALDESC:Events for Target Sales
REFRESH-INTERVAL;VALUE=DURATION:PT1H
X-Robots-Tag:noindex
X-PUBLISHED-TTL:PT1H
BEGIN:VTIMEZONE
TZID:UTC
BEGIN:STANDARD
TZOFFSETFROM:+0000
TZOFFSETTO:+0000
TZNAME:UTC
DTSTART:20200101T000000
END:STANDARD
END:VTIMEZONE
BEGIN:VEVENT
DTSTART;TZID=UTC:20210714T080000
DTEND;TZID=UTC:20210714T090000
DTSTAMP:20260424T072829
CREATED:20210702T190827Z
LAST-MODIFIED:20210702T190827Z
UID:2103-1626249600-1626253200@www.targetsales.com
SUMMARY:Vacuum Recovery and Charge Class - Lakeland
DESCRIPTION:Contractor Training
URL:https://www.targetsales.com/event/vacuum-recovery-and-charge-class-lakeland/
END:VEVENT
END:VCALENDAR