BEGIN:VCALENDAR
VERSION:2.0
PRODID:-//Target Sales - ECPv6.15.20//NONSGML v1.0//EN
CALSCALE:GREGORIAN
METHOD:PUBLISH
X-ORIGINAL-URL:https://www.targetsales.com
X-WR-CALDESC:Events for Target Sales
REFRESH-INTERVAL;VALUE=DURATION:PT1H
X-Robots-Tag:noindex
X-PUBLISHED-TTL:PT1H
BEGIN:VTIMEZONE
TZID:UTC
BEGIN:STANDARD
TZOFFSETFROM:+0000
TZOFFSETTO:+0000
TZNAME:UTC
DTSTART:20200101T000000
END:STANDARD
END:VTIMEZONE
BEGIN:VEVENT
DTSTART;TZID=UTC:20210702T080000
DTEND;TZID=UTC:20210702T100000
DTSTAMP:20260424T054429
CREATED:20210702T185110Z
LAST-MODIFIED:20210702T185110Z
UID:2096-1625212800-1625220000@www.targetsales.com
SUMMARY:Brazing Best Practices - Naples
DESCRIPTION:Contractor Training in Naples
URL:https://www.targetsales.com/event/brazing-best-practices-naples/
END:VEVENT
END:VCALENDAR