BEGIN:VCALENDAR
VERSION:2.0
PRODID:-//Target Sales - ECPv6.15.20//NONSGML v1.0//EN
CALSCALE:GREGORIAN
METHOD:PUBLISH
X-WR-CALNAME:Target Sales
X-ORIGINAL-URL:https://www.targetsales.com
X-WR-CALDESC:Events for Target Sales
REFRESH-INTERVAL;VALUE=DURATION:PT1H
X-Robots-Tag:noindex
X-PUBLISHED-TTL:PT1H
BEGIN:VTIMEZONE
TZID:UTC
BEGIN:STANDARD
TZOFFSETFROM:+0000
TZOFFSETTO:+0000
TZNAME:UTC
DTSTART:20200101T000000
END:STANDARD
END:VTIMEZONE
BEGIN:VEVENT
DTSTART;TZID=UTC:20210630T153000
DTEND;TZID=UTC:20210630T170000
DTSTAMP:20260424T072547
CREATED:20210624T201624Z
LAST-MODIFIED:20210624T201624Z
UID:2079-1625067000-1625072400@www.targetsales.com
SUMMARY:Contractor Training in Melbourne - Turbo Torch
DESCRIPTION:
URL:https://www.targetsales.com/event/contractor-training-in-melbourne-turbo-torch/
END:VEVENT
END:VCALENDAR