BEGIN:VCALENDAR
VERSION:2.0
PRODID:-//Target Sales - ECPv6.15.20//NONSGML v1.0//EN
CALSCALE:GREGORIAN
METHOD:PUBLISH
X-WR-CALNAME:Target Sales
X-ORIGINAL-URL:https://www.targetsales.com
X-WR-CALDESC:Events for Target Sales
REFRESH-INTERVAL;VALUE=DURATION:PT1H
X-Robots-Tag:noindex
X-PUBLISHED-TTL:PT1H
BEGIN:VTIMEZONE
TZID:UTC
BEGIN:STANDARD
TZOFFSETFROM:+0000
TZOFFSETTO:+0000
TZNAME:UTC
DTSTART:20200101T000000
END:STANDARD
END:VTIMEZONE
BEGIN:VEVENT
DTSTART;TZID=UTC:20210628T110000
DTEND;TZID=UTC:20210628T130000
DTSTAMP:20260424T055855
CREATED:20210624T201404Z
LAST-MODIFIED:20210624T201404Z
UID:2076-1624878000-1624885200@www.targetsales.com
SUMMARY:Contractor Training in Jacksonville - YogaPipe
DESCRIPTION:
URL:https://www.targetsales.com/event/contractor-training-in-jacksonville-yogapipe/
END:VEVENT
BEGIN:VEVENT
DTSTART;TZID=UTC:20210628T140000
DTEND;TZID=UTC:20210628T143000
DTSTAMP:20260424T055855
CREATED:20210625T150510Z
LAST-MODIFIED:20210625T151618Z
UID:2089-1624888800-1624890600@www.targetsales.com
SUMMARY:Virtual Training with Johnstone Ware Group - Rectorseal
DESCRIPTION:Surge Protection in South FL
URL:https://www.targetsales.com/event/training-at-johnstone-ware-group-rectorseal/
END:VEVENT
END:VCALENDAR