BEGIN:VCALENDAR
VERSION:2.0
PRODID:-//Target Sales - ECPv6.15.20//NONSGML v1.0//EN
CALSCALE:GREGORIAN
METHOD:PUBLISH
X-ORIGINAL-URL:https://www.targetsales.com
X-WR-CALDESC:Events for Target Sales
REFRESH-INTERVAL;VALUE=DURATION:PT1H
X-Robots-Tag:noindex
X-PUBLISHED-TTL:PT1H
BEGIN:VTIMEZONE
TZID:UTC
BEGIN:STANDARD
TZOFFSETFROM:+0000
TZOFFSETTO:+0000
TZNAME:UTC
DTSTART:20190101T000000
END:STANDARD
END:VTIMEZONE
BEGIN:VEVENT
DTSTART;TZID=UTC:20201117T080000
DTEND;TZID=UTC:20201117T103000
DTSTAMP:20260424T073900
CREATED:20201111T171619Z
LAST-MODIFIED:20201111T171643Z
UID:1947-1605600000-1605609000@www.targetsales.com
SUMMARY:Rectorseal Tent Days Jacksonville
DESCRIPTION:Demonstrations\, Samples and Breakfast
URL:https://www.targetsales.com/event/rectorseal-tent-days-jacksonville/
LOCATION:Johnstone Supply Jax\, 11710 Central Pkwy\, Jacksonville\, FL\, United States
END:VEVENT
BEGIN:VEVENT
DTSTART;TZID=UTC:20201117T080000
DTEND;TZID=UTC:20201117T103000
DTSTAMP:20260424T073900
CREATED:20201111T171953Z
LAST-MODIFIED:20201111T171953Z
UID:1952-1605600000-1605609000@www.targetsales.com
SUMMARY:Rectorseal Tent Days Ocala
DESCRIPTION:Demonstrations\, Samples and Breakfast
URL:https://www.targetsales.com/event/rectorseal-tent-days-ocala/
LOCATION:Johnstone Supply Ocala\, 2700 SW 3rd Place\, Ocala\, FL\, United States
END:VEVENT
END:VCALENDAR